BEGIN:VCALENDAR
VERSION:2.0
PRODID:-//Betty Reis Gesamtschule - ECPv4.9.1.1//NONSGML v1.0//EN
CALSCALE:GREGORIAN
METHOD:PUBLISH
X-WR-CALNAME:Betty Reis Gesamtschule
X-ORIGINAL-URL:https://www.bettyreis.de
X-WR-CALDESC:Veranstaltungen im Betty Reis Gesamtschule
BEGIN:VEVENT
DTSTART;VALUE=DATE:20240308
DTEND;VALUE=DATE:20240309
DTSTAMP:20260421T060109
CREATED:20230731T184318Z
LAST-MODIFIED:20230731T184318Z
UID:9091-1709856000-1709942399@www.bettyreis.de
SUMMARY:Abgabe der Facharbeit in der Q1
DESCRIPTION:
URL:https://www.bettyreis.de/veranstaltung/abgabe-der-facharbeit-in-der-q1-2/
LOCATION:Betty-Reis-Gesamtschule Wassenberg\, Birkenweg 2\, Wassenberg\, Nordrhein-Westfalen\, 41849
CATEGORIES:Sekundarstufe II
ORGANIZER;CN="Betty-Reis-Gesamtschule":MAILTO:info@bettyreis.de
END:VEVENT
END:VCALENDAR