BEGIN:VCALENDAR
VERSION:2.0
PRODID:-//Betty Reis Gesamtschule - ECPv4.9.1.1//NONSGML v1.0//EN
CALSCALE:GREGORIAN
METHOD:PUBLISH
X-WR-CALNAME:Betty Reis Gesamtschule
X-ORIGINAL-URL:https://www.bettyreis.de
X-WR-CALDESC:Veranstaltungen im Betty Reis Gesamtschule
BEGIN:VEVENT
DTSTART;TZID=Europe/Berlin:20250705T100000
DTEND;TZID=Europe/Berlin:20250705T120000
DTSTAMP:20260422T064423
CREATED:20250106T140236Z
LAST-MODIFIED:20250106T140236Z
UID:10684-1751709600-1751716800@www.bettyreis.de
SUMMARY:Abiturentlassfeier
DESCRIPTION:
URL:https://www.bettyreis.de/veranstaltung/abiturentlassfeier-7/
LOCATION:Forum der Betty-Reis-Gesamtschule\, Birkenweg 2\, Wassenberg\, Nordrhein-Westfalen\, 41849\, Deutschland
ORGANIZER;CN="Betty-Reis-Gesamtschule":MAILTO:info@bettyreis.de
END:VEVENT
END:VCALENDAR