BEGIN:VCALENDAR
VERSION:2.0
PRODID:-//Betty Reis Gesamtschule - ECPv4.9.1.1//NONSGML v1.0//EN
CALSCALE:GREGORIAN
METHOD:PUBLISH
X-WR-CALNAME:Betty Reis Gesamtschule
X-ORIGINAL-URL:https://www.bettyreis.de
X-WR-CALDESC:Veranstaltungen im Betty Reis Gesamtschule
BEGIN:VEVENT
DTSTART;TZID=Europe/Berlin:20250827T075500
DTEND;TZID=Europe/Berlin:20250827T084000
DTSTAMP:20260422T155622
CREATED:20250826T222349Z
LAST-MODIFIED:20250826T222520Z
UID:11413-1756281300-1756284000@www.bettyreis.de
SUMMARY:EF: Begrüßung des neuen 11. Jahrgangs 2025
DESCRIPTION:
URL:https://www.bettyreis.de/veranstaltung/ef-begruessung-des-neuen-11-jahrgangs-2025/
END:VEVENT
END:VCALENDAR