BEGIN:VCALENDAR
VERSION:2.0
PRODID:-//Betty Reis Gesamtschule - ECPv4.9.1.1//NONSGML v1.0//EN
CALSCALE:GREGORIAN
METHOD:PUBLISH
X-WR-CALNAME:Betty Reis Gesamtschule
X-ORIGINAL-URL:https://www.bettyreis.de
X-WR-CALDESC:Veranstaltungen im Betty Reis Gesamtschule
BEGIN:VEVENT
DTSTART;TZID=Europe/Berlin:20250827T143000
DTEND;TZID=Europe/Berlin:20250827T170000
DTSTAMP:20260422T230325
CREATED:20250826T222727Z
LAST-MODIFIED:20250826T222743Z
UID:11423-1756305000-1756314000@www.bettyreis.de
SUMMARY:Einschulung des neuen 5. Jahrgangs
DESCRIPTION:
URL:https://www.bettyreis.de/veranstaltung/einschulung-des-neuen-5-jahrgangs-8/
END:VEVENT
END:VCALENDAR