BEGIN:VCALENDAR
VERSION:2.0
PRODID:-//Betty Reis Gesamtschule - ECPv4.9.1.1//NONSGML v1.0//EN
CALSCALE:GREGORIAN
METHOD:PUBLISH
X-WR-CALNAME:Betty Reis Gesamtschule
X-ORIGINAL-URL:https://www.bettyreis.de
X-WR-CALDESC:Veranstaltungen im Betty Reis Gesamtschule
BEGIN:VEVENT
DTSTART;TZID=Europe/Berlin:20190502T143000
DTEND;TZID=Europe/Berlin:20190502T143000
DTSTAMP:20260423T193147
CREATED:20181023T171845Z
LAST-MODIFIED:20181023T171845Z
UID:2700-1556807400-1556807400@www.bettyreis.de
SUMMARY:Eltern-Schüler-Lehrer-Sprechtag
DESCRIPTION:Unterrichtsende 13:15 Uhr \n
URL:https://www.bettyreis.de/veranstaltung/eltern-schueler-lehrer-sprechtag-2/
LOCATION:Betty-Reis-Gesamtschule Wassenberg\, Birkenweg 2\, Wassenberg\, Nordrhein-Westfalen\, 41849
ORGANIZER;CN="Betty-Reis-Gesamtschule":MAILTO:info@bettyreis.de
END:VEVENT
END:VCALENDAR