BEGIN:VCALENDAR
VERSION:2.0
PRODID:-//Betty Reis Gesamtschule - ECPv4.9.1.1//NONSGML v1.0//EN
CALSCALE:GREGORIAN
METHOD:PUBLISH
X-WR-CALNAME:Betty Reis Gesamtschule
X-ORIGINAL-URL:https://www.bettyreis.de
X-WR-CALDESC:Veranstaltungen im Betty Reis Gesamtschule
BEGIN:VEVENT
DTSTART;VALUE=DATE:20250619
DTEND;VALUE=DATE:20250620
DTSTAMP:20260421T211952
CREATED:20241104T193317Z
LAST-MODIFIED:20250203T092857Z
UID:10464-1750291200-1750377599@www.bettyreis.de
SUMMARY:Fronleichnam
DESCRIPTION:
URL:https://www.bettyreis.de/veranstaltung/fronleichnam-6/
ORGANIZER;CN="Betty-Reis-Gesamtschule":MAILTO:info@bettyreis.de
END:VEVENT
END:VCALENDAR