BEGIN:VCALENDAR
VERSION:2.0
PRODID:-//Betty Reis Gesamtschule - ECPv4.9.1.1//NONSGML v1.0//EN
CALSCALE:GREGORIAN
METHOD:PUBLISH
X-WR-CALNAME:Betty Reis Gesamtschule
X-ORIGINAL-URL:https://www.bettyreis.de
X-WR-CALDESC:Veranstaltungen im Betty Reis Gesamtschule
BEGIN:VEVENT
DTSTART;TZID=Europe/Berlin:20190516T200000
DTEND;TZID=Europe/Berlin:20190516T213000
DTSTAMP:20260424T010555
CREATED:20181023T171846Z
LAST-MODIFIED:20190211T172446Z
UID:2703-1558036800-1558042200@www.bettyreis.de
SUMMARY:Elternabend für die neue EF (neuer Jg. 11)
DESCRIPTION:
URL:https://www.bettyreis.de/veranstaltung/infoabend-neue-11/
LOCATION:Forum der Betty-Reis-Gesamtschule\, Birkenweg 2\, Wassenberg\, Nordrhein-Westfalen\, 41849\, Deutschland
ORGANIZER;CN="Betty-Reis-Gesamtschule":MAILTO:info@bettyreis.de
END:VEVENT
END:VCALENDAR