BEGIN:VCALENDAR
VERSION:2.0
PRODID:-//Betty Reis Gesamtschule - ECPv4.9.1.1//NONSGML v1.0//EN
CALSCALE:GREGORIAN
METHOD:PUBLISH
X-WR-CALNAME:Betty Reis Gesamtschule
X-ORIGINAL-URL:https://www.bettyreis.de
X-WR-CALDESC:Veranstaltungen im Betty Reis Gesamtschule
BEGIN:VEVENT
DTSTART;TZID=Europe/Berlin:20250827T084500
DTEND;TZID=Europe/Berlin:20250827T093000
DTSTAMP:20260422T201550
CREATED:20250831T174453Z
LAST-MODIFIED:20250831T174453Z
UID:11471-1756284300-1756287000@www.bettyreis.de
SUMMARY:"Information zu den Abiturfächern (Q2\, Jahrgang 13)"
DESCRIPTION:
URL:https://www.bettyreis.de/veranstaltung/information-zu-den-abiturfaechern-q2-jahrgang-13-3/
LOCATION:Betty-Reis-Gesamtschule Wassenberg\, Birkenweg 2\, Wassenberg\, Nordrhein-Westfalen\, 41849
CATEGORIES:Sekundarstufe II
END:VEVENT
END:VCALENDAR