BEGIN:VCALENDAR
VERSION:2.0
PRODID:-//Betty Reis Gesamtschule - ECPv4.9.1.1//NONSGML v1.0//EN
CALSCALE:GREGORIAN
METHOD:PUBLISH
X-WR-CALNAME:Betty Reis Gesamtschule
X-ORIGINAL-URL:https://www.bettyreis.de
X-WR-CALDESC:Veranstaltungen im Betty Reis Gesamtschule
BEGIN:VEVENT
DTSTART;TZID=Europe/Berlin:20250206T000000
DTEND;TZID=Europe/Berlin:20250206T000000
DTSTAMP:20260423T112930
CREATED:20241104T193315Z
LAST-MODIFIED:20250203T092007Z
UID:10455-1738800000-1738800000@www.bettyreis.de
SUMMARY:Jg.13: Fahrt zur NS-Gedenkstätte Vogelsang
DESCRIPTION:
URL:https://www.bettyreis.de/veranstaltung/jg-13-fahrt-zur-ns-gedenkstaette-vogelsang/
CATEGORIES:Sekundarstufe II
ORGANIZER;CN="Betty-Reis-Gesamtschule":MAILTO:info@bettyreis.de
END:VEVENT
END:VCALENDAR