BEGIN:VCALENDAR
VERSION:2.0
PRODID:-//Betty Reis Gesamtschule - ECPv4.9.1.1//NONSGML v1.0//EN
CALSCALE:GREGORIAN
METHOD:PUBLISH
X-WR-CALNAME:Betty Reis Gesamtschule
X-ORIGINAL-URL:https://www.bettyreis.de
X-WR-CALDESC:Veranstaltungen im Betty Reis Gesamtschule
BEGIN:VEVENT
DTSTART;TZID=Europe/Berlin:20250828T190000
DTEND;TZID=Europe/Berlin:20250828T210000
DTSTAMP:20260423T025848
CREATED:20250827T184744Z
LAST-MODIFIED:20250827T184744Z
UID:11433-1756407600-1756414800@www.bettyreis.de
SUMMARY:Klassenpflegschaft Jg.8
DESCRIPTION:
URL:https://www.bettyreis.de/veranstaltung/klassenpflegschaft-jg-8-2/
END:VEVENT
END:VCALENDAR