BEGIN:VCALENDAR
VERSION:2.0
PRODID:-//Betty Reis Gesamtschule - ECPv4.9.1.1//NONSGML v1.0//EN
CALSCALE:GREGORIAN
METHOD:PUBLISH
X-WR-CALNAME:Betty Reis Gesamtschule
X-ORIGINAL-URL:https://www.bettyreis.de
X-WR-CALDESC:Veranstaltungen im Betty Reis Gesamtschule
BEGIN:VEVENT
DTSTART;TZID=Europe/Berlin:20250904T190000
DTEND;TZID=Europe/Berlin:20250904T210000
DTSTAMP:20260423T095231
CREATED:20250827T184820Z
LAST-MODIFIED:20250827T184820Z
UID:11436-1757012400-1757019600@www.bettyreis.de
SUMMARY:Klassenpflegschaft Jg.9
DESCRIPTION:
URL:https://www.bettyreis.de/veranstaltung/klassenpflegschaft-jg-9-2/
END:VEVENT
END:VCALENDAR