BEGIN:VCALENDAR
VERSION:2.0
PRODID:-//Betty Reis Gesamtschule - ECPv4.9.1.1//NONSGML v1.0//EN
CALSCALE:GREGORIAN
METHOD:PUBLISH
X-WR-CALNAME:Betty Reis Gesamtschule
X-ORIGINAL-URL:https://www.bettyreis.de
X-WR-CALDESC:Veranstaltungen im Betty Reis Gesamtschule
BEGIN:VEVENT
DTSTART;TZID=Europe/Berlin:20250829T075500
DTEND;TZID=Europe/Berlin:20250829T093000
DTSTAMP:20260423T053733
CREATED:20250831T174454Z
LAST-MODIFIED:20250831T174454Z
UID:11475-1756454100-1756459800@www.bettyreis.de
SUMMARY:Methodentag Digitalität (Jahrgang 8)
DESCRIPTION:
URL:https://www.bettyreis.de/veranstaltung/methodentag-digitalitaet-jahrgang-8/
LOCATION:Betty-Reis-Gesamtschule Wassenberg\, Birkenweg 2\, Wassenberg\, Nordrhein-Westfalen\, 41849
END:VEVENT
END:VCALENDAR