BEGIN:VCALENDAR
VERSION:2.0
PRODID:-//Betty Reis Gesamtschule - ECPv4.9.1.1//NONSGML v1.0//EN
CALSCALE:GREGORIAN
METHOD:PUBLISH
X-WR-CALNAME:Betty Reis Gesamtschule
X-ORIGINAL-URL:https://www.bettyreis.de
X-WR-CALDESC:Veranstaltungen im Betty Reis Gesamtschule
BEGIN:VEVENT
DTSTART;VALUE=DATE:20250630
DTEND;VALUE=DATE:20250701
DTSTAMP:20260422T033620
CREATED:20250106T140236Z
LAST-MODIFIED:20250203T092933Z
UID:10681-1751241600-1751327999@www.bettyreis.de
SUMMARY:Mündliches Abitur (Studientag für die Sek.II und 10Q)
DESCRIPTION:
URL:https://www.bettyreis.de/veranstaltung/muendliches-abitur-studientag-fuer-die-sek-ii-und-10q/
ORGANIZER;CN="Betty-Reis-Gesamtschule":MAILTO:info@bettyreis.de
END:VEVENT
END:VCALENDAR