BEGIN:VCALENDAR
VERSION:2.0
PRODID:-//Betty Reis Gesamtschule - ECPv4.9.1.1//NONSGML v1.0//EN
CALSCALE:GREGORIAN
METHOD:PUBLISH
X-WR-CALNAME:Betty Reis Gesamtschule
X-ORIGINAL-URL:https://www.bettyreis.de
X-WR-CALDESC:Veranstaltungen im Betty Reis Gesamtschule
BEGIN:VEVENT
DTSTART;VALUE=DATE:20190527
DTEND;VALUE=DATE:20190528
DTSTAMP:20260424T052313
CREATED:20181023T171846Z
LAST-MODIFIED:20190211T172204Z
UID:2704-1558915200-1559001599@www.bettyreis.de
SUMMARY:Mündliches Abitur (4. Fach)\, Studientag für die Sekundarstufe II
DESCRIPTION:
URL:https://www.bettyreis.de/veranstaltung/muendliches-abitur-studientag-sek-ii/
LOCATION:Betty-Reis-Gesamtschule Wassenberg\, Birkenweg 2\, Wassenberg\, Nordrhein-Westfalen\, 41849
ORGANIZER;CN="Betty-Reis-Gesamtschule":MAILTO:info@bettyreis.de
END:VEVENT
END:VCALENDAR