BEGIN:VCALENDAR
VERSION:2.0
PRODID:-//Betty Reis Gesamtschule - ECPv4.9.1.1//NONSGML v1.0//EN
CALSCALE:GREGORIAN
METHOD:PUBLISH
X-WR-CALNAME:Betty Reis Gesamtschule
X-ORIGINAL-URL:https://www.bettyreis.de
X-WR-CALDESC:Veranstaltungen im Betty Reis Gesamtschule
BEGIN:VEVENT
DTSTART;TZID=Europe/Berlin:20190415T000000
DTEND;TZID=Europe/Berlin:20190426T000000
DTSTAMP:20260423T144922
CREATED:20181023T171845Z
LAST-MODIFIED:20181023T171845Z
UID:2697-1555286400-1556236800@www.bettyreis.de
SUMMARY:Osterferien
DESCRIPTION:
URL:https://www.bettyreis.de/veranstaltung/osterferien-2/
END:VEVENT
END:VCALENDAR