BEGIN:VCALENDAR
VERSION:2.0
PRODID:-//Betty Reis Gesamtschule - ECPv4.9.1.1//NONSGML v1.0//EN
CALSCALE:GREGORIAN
METHOD:PUBLISH
X-WR-CALNAME:Betty Reis Gesamtschule
X-ORIGINAL-URL:https://www.bettyreis.de
X-WR-CALDESC:Veranstaltungen im Betty Reis Gesamtschule
BEGIN:VEVENT
DTSTART;VALUE=DATE:20240313
DTEND;VALUE=DATE:20240314
DTSTAMP:20260423T082934
CREATED:20230731T184319Z
LAST-MODIFIED:20230731T184319Z
UID:9093-1710288000-1710374399@www.bettyreis.de
SUMMARY:Pädagogischer Tag
DESCRIPTION:„Studientag\, kein Unterricht“ \n
URL:https://www.bettyreis.de/veranstaltung/paedagogischer-tag-7/
LOCATION:Betty-Reis-Gesamtschule Wassenberg\, Birkenweg 2\, Wassenberg\, Nordrhein-Westfalen\, 41849
ORGANIZER;CN="Betty-Reis-Gesamtschule":MAILTO:info@bettyreis.de
END:VEVENT
END:VCALENDAR