BEGIN:VCALENDAR
VERSION:2.0
PRODID:-//Betty Reis Gesamtschule - ECPv4.9.1.1//NONSGML v1.0//EN
CALSCALE:GREGORIAN
METHOD:PUBLISH
X-WR-CALNAME:Betty Reis Gesamtschule
X-ORIGINAL-URL:https://www.bettyreis.de
X-WR-CALDESC:Veranstaltungen im Betty Reis Gesamtschule
BEGIN:VEVENT
DTSTART;TZID=Europe/Berlin:20250827T131500
DTEND;TZID=Europe/Berlin:20250827T131500
DTSTAMP:20260422T213105
CREATED:20250826T222616Z
LAST-MODIFIED:20250826T222616Z
UID:11420-1756300500-1756300500@www.bettyreis.de
SUMMARY:Unterrichtsende 13.15 Uhr
DESCRIPTION:
URL:https://www.bettyreis.de/veranstaltung/unterrichtsende-13-15-uhr/
END:VEVENT
END:VCALENDAR