BEGIN:VCALENDAR
VERSION:2.0
PRODID:-//Betty Reis Gesamtschule - ECPv4.9.1.1//NONSGML v1.0//EN
CALSCALE:GREGORIAN
METHOD:PUBLISH
X-WR-CALNAME:Betty Reis Gesamtschule
X-ORIGINAL-URL:https://www.bettyreis.de
X-WR-CALDESC:Veranstaltungen im Betty Reis Gesamtschule
BEGIN:VEVENT
DTSTART;VALUE=DATE:20250902
DTEND;VALUE=DATE:20250903
DTSTAMP:20260423T065357
CREATED:20250831T174454Z
LAST-MODIFIED:20250831T174454Z
UID:11476-1756771200-1756857599@www.bettyreis.de
SUMMARY:Wahl der Arbeitsgemeinschaften (Jahrgang 5)
DESCRIPTION:
URL:https://www.bettyreis.de/veranstaltung/wahl-der-arbeitsgemeinschaften-jahrgang-5/
LOCATION:Betty-Reis-Gesamtschule Wassenberg\, Birkenweg 2\, Wassenberg\, Nordrhein-Westfalen\, 41849
END:VEVENT
END:VCALENDAR