BEGIN:VCALENDAR
VERSION:2.0
PRODID:-//Betty Reis Gesamtschule - ECPv4.9.1.1//NONSGML v1.0//EN
CALSCALE:GREGORIAN
METHOD:PUBLISH
X-WR-CALNAME:Betty Reis Gesamtschule
X-ORIGINAL-URL:https://www.bettyreis.de
X-WR-CALDESC:Veranstaltungen im Betty Reis Gesamtschule
BEGIN:VEVENT
DTSTART;VALUE=DATE:20250626
DTEND;VALUE=DATE:20250627
DTSTAMP:20260422T002807
CREATED:20250106T140236Z
LAST-MODIFIED:20250203T092916Z
UID:10679-1750896000-1750982399@www.bettyreis.de
SUMMARY:Wandertag im Jg. 10
DESCRIPTION:
URL:https://www.bettyreis.de/veranstaltung/wandertag-im-jg-10-2/
ORGANIZER;CN="Betty-Reis-Gesamtschule":MAILTO:info@bettyreis.de
END:VEVENT
END:VCALENDAR