BEGIN:VCALENDAR
VERSION:2.0
PRODID:-//Betty Reis Gesamtschule - ECPv4.9.1.1//NONSGML v1.0//EN
CALSCALE:GREGORIAN
METHOD:PUBLISH
X-WR-CALNAME:Betty Reis Gesamtschule
X-ORIGINAL-URL:https://www.bettyreis.de
X-WR-CALDESC:Veranstaltungen im Betty Reis Gesamtschule
BEGIN:VEVENT
DTSTART;VALUE=DATE:20190521
DTEND;VALUE=DATE:20190522
DTSTAMP:20260424T023251
CREATED:20190211T172325Z
LAST-MODIFIED:20190211T172325Z
UID:3545-1558396800-1558483199@www.bettyreis.de
SUMMARY:Zentrale Abschlussprüfungen im Jahrgang 10: Englisch
DESCRIPTION:
URL:https://www.bettyreis.de/veranstaltung/zentrale-abschlusspruefungen-im-jahrgang-10-englisch/
END:VEVENT
END:VCALENDAR