BEGIN:VCALENDAR
VERSION:2.0
PRODID:-//Betty Reis Gesamtschule - ECPv4.9.1.1//NONSGML v1.0//EN
CALSCALE:GREGORIAN
METHOD:PUBLISH
X-WR-CALNAME:Betty Reis Gesamtschule
X-ORIGINAL-URL:https://www.bettyreis.de
X-WR-CALDESC:Veranstaltungen im Betty Reis Gesamtschule
BEGIN:VEVENT
DTSTART;VALUE=DATE:20190523
DTEND;VALUE=DATE:20190524
DTSTAMP:20260424T035750
CREATED:20190211T172343Z
LAST-MODIFIED:20190211T172343Z
UID:3548-1558569600-1558655999@www.bettyreis.de
SUMMARY:Zentrale Abschlussprüfungen im Jahrgang 10: Mathematik
DESCRIPTION:
URL:https://www.bettyreis.de/veranstaltung/zentrale-abschlusspruefungen-im-jahrgang-10-mathematik/
END:VEVENT
END:VCALENDAR