BEGIN:VCALENDAR
VERSION:2.0
PRODID:-//Betty Reis Gesamtschule - ECPv4.9.1.1//NONSGML v1.0//EN
CALSCALE:GREGORIAN
METHOD:PUBLISH
X-WR-CALNAME:Betty Reis Gesamtschule
X-ORIGINAL-URL:https://www.bettyreis.de
X-WR-CALDESC:Veranstaltungen im Betty Reis Gesamtschule
BEGIN:VEVENT
DTSTART;VALUE=DATE:20190607
DTEND;VALUE=DATE:20190608
DTSTAMP:20260424T080016
CREATED:20190211T172104Z
LAST-MODIFIED:20190211T172104Z
UID:3537-1559865600-1559951999@www.bettyreis.de
SUMMARY:Zentrale Klausur in der EF: Deutsch
DESCRIPTION:
URL:https://www.bettyreis.de/veranstaltung/zentrale-klausur-in-der-ef-deutsch/
END:VEVENT
END:VCALENDAR