BEGIN:VCALENDAR
VERSION:2.0
PRODID:-//Betty Reis Gesamtschule - ECPv4.9.1.1//NONSGML v1.0//EN
CALSCALE:GREGORIAN
METHOD:PUBLISH
X-WR-CALNAME:Betty Reis Gesamtschule
X-ORIGINAL-URL:https://www.bettyreis.de
X-WR-CALDESC:Veranstaltungen im Betty Reis Gesamtschule
BEGIN:VEVENT
DTSTART;TZID=Europe/Berlin:20250711T100000
DTEND;TZID=Europe/Berlin:20250711T110000
DTSTAMP:20260422T112914
CREATED:20250106T140237Z
LAST-MODIFIED:20250106T140237Z
UID:10686-1752228000-1752231600@www.bettyreis.de
SUMMARY:Zeugnisausgabe
DESCRIPTION:Unterrichtsende um 11.00 Uhr \n
URL:https://www.bettyreis.de/veranstaltung/zeugnisausgabe-7/
ORGANIZER;CN="Betty-Reis-Gesamtschule":MAILTO:info@bettyreis.de
END:VEVENT
END:VCALENDAR